BEGIN:VCALENDAR
VERSION:2.0
PRODID:-// - ECPv6.15.20//NONSGML v1.0//EN
CALSCALE:GREGORIAN
METHOD:PUBLISH
X-ORIGINAL-URL:https://hopeandhealinginchrist.org
X-WR-CALDESC:Events for 
REFRESH-INTERVAL;VALUE=DURATION:PT1H
X-Robots-Tag:noindex
X-PUBLISHED-TTL:PT1H
BEGIN:VTIMEZONE
TZID:America/Boise
BEGIN:DAYLIGHT
TZOFFSETFROM:-0700
TZOFFSETTO:-0600
TZNAME:MDT
DTSTART:20230312T090000
END:DAYLIGHT
BEGIN:STANDARD
TZOFFSETFROM:-0600
TZOFFSETTO:-0700
TZNAME:MST
DTSTART:20231105T080000
END:STANDARD
BEGIN:DAYLIGHT
TZOFFSETFROM:-0700
TZOFFSETTO:-0600
TZNAME:MDT
DTSTART:20240310T090000
END:DAYLIGHT
BEGIN:STANDARD
TZOFFSETFROM:-0600
TZOFFSETTO:-0700
TZNAME:MST
DTSTART:20241103T080000
END:STANDARD
BEGIN:DAYLIGHT
TZOFFSETFROM:-0700
TZOFFSETTO:-0600
TZNAME:MDT
DTSTART:20250309T090000
END:DAYLIGHT
BEGIN:STANDARD
TZOFFSETFROM:-0600
TZOFFSETTO:-0700
TZNAME:MST
DTSTART:20251102T080000
END:STANDARD
BEGIN:DAYLIGHT
TZOFFSETFROM:-0700
TZOFFSETTO:-0600
TZNAME:MDT
DTSTART:20260308T090000
END:DAYLIGHT
BEGIN:STANDARD
TZOFFSETFROM:-0600
TZOFFSETTO:-0700
TZNAME:MST
DTSTART:20261101T080000
END:STANDARD
BEGIN:DAYLIGHT
TZOFFSETFROM:-0700
TZOFFSETTO:-0600
TZNAME:MDT
DTSTART:20270314T090000
END:DAYLIGHT
BEGIN:STANDARD
TZOFFSETFROM:-0600
TZOFFSETTO:-0700
TZNAME:MST
DTSTART:20271107T080000
END:STANDARD
END:VTIMEZONE
BEGIN:VEVENT
DTSTART;TZID=America/Boise:20260418T130000
DTEND;TZID=America/Boise:20260418T150000
DTSTAMP:20260423T144935
CREATED:20260414T055149Z
LAST-MODIFIED:20260414T061100Z
UID:1356-1776517200-1776524400@hopeandhealinginchrist.org
SUMMARY:Lunch Break
DESCRIPTION:
URL:https://hopeandhealinginchrist.org/event/lunch-break-2026/
LOCATION:1st Half of Gym
CATEGORIES:1st Half of Gym,2nd Half of Gym,Addiction Recovery,Anxiety Management,Chapel,Emotional Resilience,Family Support,General Session,Keynotes,Leadership Support,Mental Wellness,Personal Success Stories,Primary Room,Q&A,Relief Society Room,Suicide Awareness,Trauma Support
ATTACH;FMTTYPE=image/webp:https://hopeandhealinginchrist.org/wp-content/uploads/2023/02/picnic-day-snippet-lunch-break-graphic-element-embellishment-word-art-outdoors-summer-orange-white.webp
END:VEVENT
BEGIN:VEVENT
DTSTART;TZID=America/Boise:20260418T121000
DTEND;TZID=America/Boise:20260418T123500
DTSTAMP:20260423T144935
CREATED:20260414T061924Z
LAST-MODIFIED:20260416T183100Z
UID:1381-1776514200-1776515700@hopeandhealinginchrist.org
SUMMARY:Cari
DESCRIPTION:Attend online here: qr.codes/CiPUMH
URL:https://hopeandhealinginchrist.org/event/cari/
LOCATION:2nd Half of Gym
CATEGORIES:2nd Half of Gym,Family Support
END:VEVENT
BEGIN:VEVENT
DTSTART;TZID=America/Boise:20260418T111500
DTEND;TZID=America/Boise:20260418T120000
DTSTAMP:20260423T144935
CREATED:20260414T061808Z
LAST-MODIFIED:20260416T183143Z
UID:1379-1776510900-1776513600@hopeandhealinginchrist.org
SUMMARY:Evan & Missy Hathaway
DESCRIPTION:Attend online here: qr.codes/CiPUMH
URL:https://hopeandhealinginchrist.org/event/evan-missy-hathaway/
LOCATION:2nd Half of Gym
CATEGORIES:2nd Half of Gym,Marriage
ATTACH;FMTTYPE=image/jpeg:https://hopeandhealinginchrist.org/wp-content/uploads/2026/04/CleanShot-2026-04-13-at-23.22.25@2x-Large.jpeg
END:VEVENT
BEGIN:VEVENT
DTSTART;TZID=America/Boise:20260418T104000
DTEND;TZID=America/Boise:20260418T110500
DTSTAMP:20260423T144935
CREATED:20260414T061604Z
LAST-MODIFIED:20260416T183219Z
UID:1377-1776508800-1776510300@hopeandhealinginchrist.org
SUMMARY:David
DESCRIPTION:Attend online here: qr.codes/CiPUMH
URL:https://hopeandhealinginchrist.org/event/david/
LOCATION:2nd Half of Gym
CATEGORIES:2nd Half of Gym,Mental Wellness
END:VEVENT
BEGIN:VEVENT
DTSTART;TZID=America/Boise:20260418T094500
DTEND;TZID=America/Boise:20260418T223000
DTSTAMP:20260423T144935
CREATED:20260414T061423Z
LAST-MODIFIED:20260416T183234Z
UID:1374-1776505500-1776551400@hopeandhealinginchrist.org
SUMMARY:Ryan Carnahan
DESCRIPTION:Attend online here: qr.codes/CiPUMH
URL:https://hopeandhealinginchrist.org/event/ryan-carnahan/
LOCATION:2nd Half of Gym
CATEGORIES:2nd Half of Gym,Addiction Recovery
ATTACH;FMTTYPE=image/jpeg:https://hopeandhealinginchrist.org/wp-content/uploads/2026/04/CleanShot-2026-04-13-at-23.16.41@2x-Large.jpeg
END:VEVENT
BEGIN:VEVENT
DTSTART;TZID=America/Boise:20250329T134500
DTEND;TZID=America/Boise:20250329T144500
DTSTAMP:20260423T144935
CREATED:20250319T144122Z
LAST-MODIFIED:20250319T144135Z
UID:1293-1743255900-1743259500@hopeandhealinginchrist.org
SUMMARY:Mental Wellness ｜ Sarah Foutz\, Life Couch
DESCRIPTION:Attend online here: qr.codes/CiPUMH
URL:https://hopeandhealinginchrist.org/event/mental-wellness-sarah-foutz-life-couch_2025-copy/
LOCATION:Chapel
CATEGORIES:2nd Half of Gym,Mental Wellness
ATTACH;FMTTYPE=image/jpeg:https://hopeandhealinginchrist.org/wp-content/uploads/2025/03/CleanShot-2025-03-19-at-07.51.27@2x.jpg
END:VEVENT
BEGIN:VEVENT
DTSTART;TZID=America/Boise:20250329T131500
DTEND;TZID=America/Boise:20250329T134000
DTSTAMP:20260423T144935
CREATED:20250319T143901Z
LAST-MODIFIED:20250319T151251Z
UID:1286-1743254100-1743255600@hopeandhealinginchrist.org
SUMMARY:Addiction Recovery ｜ Kelly
DESCRIPTION:No Online. In Person Only
URL:https://hopeandhealinginchrist.org/event/addiction-recovery-kelly_2025/
LOCATION:Chapel
CATEGORIES:2nd Half of Gym,Addiction Recovery
END:VEVENT
BEGIN:VEVENT
DTSTART;TZID=America/Boise:20250329T123000
DTEND;TZID=America/Boise:20250329T131500
DTSTAMP:20260423T144935
CREATED:20250319T141219Z
LAST-MODIFIED:20250319T142322Z
UID:1262-1743251400-1743254100@hopeandhealinginchrist.org
SUMMARY:Lunch Break
DESCRIPTION:
URL:https://hopeandhealinginchrist.org/event/lunch-break-2025/
CATEGORIES:1st Half of Gym,2nd Half of Gym,Addiction Recovery,Anxiety Management,Chapel,Emotional Resilience,Family Support,General Session,Keynotes,Leadership Support,Mental Wellness,Personal Success Stories,Q&A,Relief Society Room,Suicide Awareness,Trauma Support
ATTACH;FMTTYPE=image/webp:https://hopeandhealinginchrist.org/wp-content/uploads/2023/02/picnic-day-snippet-lunch-break-graphic-element-embellishment-word-art-outdoors-summer-orange-white.webp
END:VEVENT
BEGIN:VEVENT
DTSTART;TZID=America/Boise:20250329T114000
DTEND;TZID=America/Boise:20250329T123000
DTSTAMP:20260423T144935
CREATED:20250319T143725Z
LAST-MODIFIED:20250319T144200Z
UID:1282-1743248400-1743251400@hopeandhealinginchrist.org
SUMMARY:Mental Wellness ｜ Sarah Foutz\, Life Couch
DESCRIPTION:Attend online here: qr.codes/CiPUMH
URL:https://hopeandhealinginchrist.org/event/mental-wellness-sarah-foutz-life-couch_2025/
LOCATION:Chapel
CATEGORIES:2nd Half of Gym,Mental Wellness
ATTACH;FMTTYPE=image/jpeg:https://hopeandhealinginchrist.org/wp-content/uploads/2025/03/CleanShot-2025-03-19-at-07.51.27@2x.jpg
END:VEVENT
BEGIN:VEVENT
DTSTART;TZID=America/Boise:20250329T111000
DTEND;TZID=America/Boise:20250329T113500
DTSTAMP:20260423T144935
CREATED:20250319T143434Z
LAST-MODIFIED:20250326T191833Z
UID:1279-1743246600-1743248100@hopeandhealinginchrist.org
SUMMARY:Family Support ｜ Lara
DESCRIPTION:No Online. In Person Only
URL:https://hopeandhealinginchrist.org/event/family-support-lara_2025/
LOCATION:Chapel
CATEGORIES:2nd Half of Gym,Family Support
END:VEVENT
BEGIN:VEVENT
DTSTART;TZID=America/Boise:20240302T143000
DTEND;TZID=America/Boise:20240302T153000
DTSTAMP:20260423T144935
CREATED:20240227T181959Z
LAST-MODIFIED:20240227T183728Z
UID:1189-1709389800-1709393400@hopeandhealinginchrist.org
SUMMARY:Mental Wellness ｜ Ben & Mary
DESCRIPTION:Attend the via Zoom here: https://zoom.us/j/94965638040
URL:https://hopeandhealinginchrist.org/event/mental-wellness-ben-mary/
LOCATION:2nd Half of Gym
CATEGORIES:2nd Half of Gym,Mental Wellness
ATTACH;FMTTYPE=image/jpeg:https://hopeandhealinginchrist.org/wp-content/uploads/2018/02/cropped-pictures-of-jesus-1138494-high-res-print.jpg
END:VEVENT
BEGIN:VEVENT
DTSTART;TZID=America/Boise:20240302T133000
DTEND;TZID=America/Boise:20240302T143000
DTSTAMP:20260423T144935
CREATED:20240227T181840Z
LAST-MODIFIED:20240227T183826Z
UID:1186-1709386200-1709389800@hopeandhealinginchrist.org
SUMMARY:Trauma Support ｜ Lynn and Jeff Woodard
DESCRIPTION:Attend the via Zoom here: https://zoom.us/j/94965638040
URL:https://hopeandhealinginchrist.org/event/trauma-support-lynn-and-jeff-woodard/
LOCATION:2nd Half of Gym
CATEGORIES:2nd Half of Gym,Trauma Support
ATTACH;FMTTYPE=image/jpeg:https://hopeandhealinginchrist.org/wp-content/uploads/2018/02/cropped-pictures-of-jesus-1138494-high-res-print.jpg
END:VEVENT
BEGIN:VEVENT
DTSTART;TZID=America/Boise:20240302T123000
DTEND;TZID=America/Boise:20240302T133000
DTSTAMP:20260423T144935
CREATED:20240227T182900Z
LAST-MODIFIED:20240227T183847Z
UID:1207-1709382600-1709386200@hopeandhealinginchrist.org
SUMMARY:Lunch Break
DESCRIPTION:
URL:https://hopeandhealinginchrist.org/event/lunch-break_2024/
CATEGORIES:1st Half of Gym,2nd Half of Gym,Addiction Recovery,Anxiety Management,Chapel,Emotional Resilience,Family Support,General Session,Keynotes,Leadership Support,Mental Wellness,Personal Success Stories,Q&A,Relief Society Room,Suicide Awareness,Trauma Support
ATTACH;FMTTYPE=image/webp:https://hopeandhealinginchrist.org/wp-content/uploads/2023/02/picnic-day-snippet-lunch-break-graphic-element-embellishment-word-art-outdoors-summer-orange-white.webp
END:VEVENT
BEGIN:VEVENT
DTSTART;TZID=America/Boise:20240302T113000
DTEND;TZID=America/Boise:20240302T123000
DTSTAMP:20260423T144935
CREATED:20240227T181632Z
LAST-MODIFIED:20240227T183917Z
UID:1184-1709379000-1709382600@hopeandhealinginchrist.org
SUMMARY:Mental Wellness ｜ Jeff Johnson\, Pharm-D\, PA-C
DESCRIPTION:Attend the via Zoom here: https://zoom.us/j/94965638040
URL:https://hopeandhealinginchrist.org/event/mental-wellness-jeff-johnson-pharm-d-pa-c/
LOCATION:2nd Half of Gym
CATEGORIES:2nd Half of Gym,Mental Wellness
ATTACH;FMTTYPE=image/jpeg:https://hopeandhealinginchrist.org/wp-content/uploads/2018/02/cropped-pictures-of-jesus-1138494-high-res-print.jpg
END:VEVENT
BEGIN:VEVENT
DTSTART;TZID=America/Boise:20240302T103000
DTEND;TZID=America/Boise:20240302T113000
DTSTAMP:20260423T144935
CREATED:20240227T181415Z
LAST-MODIFIED:20240227T184005Z
UID:1181-1709375400-1709379000@hopeandhealinginchrist.org
SUMMARY:Emotional Resilience & Mental Wellness ｜ Kari & Dave
DESCRIPTION:Attend the via Zoom here: https://zoom.us/j/94965638040
URL:https://hopeandhealinginchrist.org/event/emotional-resilience-mental-wellness-kari-dave/
LOCATION:2nd Half of Gym
CATEGORIES:2nd Half of Gym,Emotional Resilience,Mental Wellness
ATTACH;FMTTYPE=image/jpeg:https://hopeandhealinginchrist.org/wp-content/uploads/2018/02/cropped-pictures-of-jesus-1138494-high-res-print.jpg
END:VEVENT
END:VCALENDAR