BEGIN:VCALENDAR
VERSION:2.0
PRODID:-// - ECPv6.15.20//NONSGML v1.0//EN
CALSCALE:GREGORIAN
METHOD:PUBLISH
X-ORIGINAL-URL:https://hopeandhealinginchrist.org
X-WR-CALDESC:Events for 
REFRESH-INTERVAL;VALUE=DURATION:PT1H
X-Robots-Tag:noindex
X-PUBLISHED-TTL:PT1H
BEGIN:VTIMEZONE
TZID:America/Boise
BEGIN:DAYLIGHT
TZOFFSETFROM:-0700
TZOFFSETTO:-0600
TZNAME:MDT
DTSTART:20240310T090000
END:DAYLIGHT
BEGIN:STANDARD
TZOFFSETFROM:-0600
TZOFFSETTO:-0700
TZNAME:MST
DTSTART:20241103T080000
END:STANDARD
BEGIN:DAYLIGHT
TZOFFSETFROM:-0700
TZOFFSETTO:-0600
TZNAME:MDT
DTSTART:20250309T090000
END:DAYLIGHT
BEGIN:STANDARD
TZOFFSETFROM:-0600
TZOFFSETTO:-0700
TZNAME:MST
DTSTART:20251102T080000
END:STANDARD
BEGIN:DAYLIGHT
TZOFFSETFROM:-0700
TZOFFSETTO:-0600
TZNAME:MDT
DTSTART:20260308T090000
END:DAYLIGHT
BEGIN:STANDARD
TZOFFSETFROM:-0600
TZOFFSETTO:-0700
TZNAME:MST
DTSTART:20261101T080000
END:STANDARD
END:VTIMEZONE
BEGIN:VEVENT
DTSTART;TZID=America/Boise:20250329T090000
DTEND;TZID=America/Boise:20250329T100000
DTSTAMP:20260424T144017
CREATED:20250319T141837Z
LAST-MODIFIED:20250323T230725Z
UID:1264-1743238800-1743242400@hopeandhealinginchrist.org
SUMMARY:General Session ｜ Lisa Bruneel
DESCRIPTION:Attend online here: qr.link/ue4ZNp
URL:https://hopeandhealinginchrist.org/event/general-session-lisa-bruneel_2025/
LOCATION:Chapel
CATEGORIES:Chapel,General Session
ATTACH;FMTTYPE=image/jpeg:https://hopeandhealinginchrist.org/wp-content/uploads/2025/03/CleanShot-2025-03-19-at-07.15.21@2x.jpg
END:VEVENT
BEGIN:VEVENT
DTSTART;TZID=America/Boise:20250329T101000
DTEND;TZID=America/Boise:20250329T110000
DTSTAMP:20260424T144017
CREATED:20250319T142302Z
LAST-MODIFIED:20250319T142302Z
UID:1266-1743243000-1743246000@hopeandhealinginchrist.org
SUMMARY:Family Support ｜ Lisa and Zach Bruneel
DESCRIPTION:Attend online here: qr.link/ue4ZNp
URL:https://hopeandhealinginchrist.org/event/family-support-lisa-and-zach-bruneel_2025/
LOCATION:Chapel
CATEGORIES:Chapel,Family Support
ATTACH;FMTTYPE=image/jpeg:https://hopeandhealinginchrist.org/wp-content/uploads/2025/03/CleanShot-2025-03-19-at-07.19.10@2x.jpg
END:VEVENT
BEGIN:VEVENT
DTSTART;TZID=America/Boise:20250329T111000
DTEND;TZID=America/Boise:20250329T113500
DTSTAMP:20260424T144017
CREATED:20250319T142615Z
LAST-MODIFIED:20250319T142615Z
UID:1268-1743246600-1743248100@hopeandhealinginchrist.org
SUMMARY:Mental Wellness｜ Sheryl
DESCRIPTION:Attend online here: qr.link/ue4ZNp
URL:https://hopeandhealinginchrist.org/event/mental-wellness-sheryl_2025/
LOCATION:Chapel
CATEGORIES:Chapel,Mental Wellness
END:VEVENT
BEGIN:VEVENT
DTSTART;TZID=America/Boise:20250329T114000
DTEND;TZID=America/Boise:20250329T123000
DTSTAMP:20260424T144017
CREATED:20250319T142842Z
LAST-MODIFIED:20250319T142842Z
UID:1271-1743248400-1743251400@hopeandhealinginchrist.org
SUMMARY:Mental Wellness｜ Darla Trent\, LPC\, NCC
DESCRIPTION:Attend online here: qr.link/ue4ZNp
URL:https://hopeandhealinginchrist.org/event/mental-wellness-darla-trent-lpc-ncc_2025/
LOCATION:Chapel
CATEGORIES:Chapel,Mental Wellness
ATTACH;FMTTYPE=image/jpeg:https://hopeandhealinginchrist.org/wp-content/uploads/2025/03/CleanShot-2025-03-19-at-07.20.41@2x.jpg
END:VEVENT
BEGIN:VEVENT
DTSTART;TZID=America/Boise:20250329T123000
DTEND;TZID=America/Boise:20250329T131500
DTSTAMP:20260424T144017
CREATED:20250319T141219Z
LAST-MODIFIED:20250319T142322Z
UID:1262-1743251400-1743254100@hopeandhealinginchrist.org
SUMMARY:Lunch Break
DESCRIPTION:
URL:https://hopeandhealinginchrist.org/event/lunch-break-2025/
CATEGORIES:1st Half of Gym,2nd Half of Gym,Addiction Recovery,Anxiety Management,Chapel,Emotional Resilience,Family Support,General Session,Keynotes,Leadership Support,Mental Wellness,Personal Success Stories,Q&A,Relief Society Room,Suicide Awareness,Trauma Support
ATTACH;FMTTYPE=image/webp:https://hopeandhealinginchrist.org/wp-content/uploads/2023/02/picnic-day-snippet-lunch-break-graphic-element-embellishment-word-art-outdoors-summer-orange-white.webp
END:VEVENT
BEGIN:VEVENT
DTSTART;TZID=America/Boise:20250329T131500
DTEND;TZID=America/Boise:20250329T134000
DTSTAMP:20260424T144017
CREATED:20250319T143208Z
LAST-MODIFIED:20250319T143208Z
UID:1276-1743254100-1743255600@hopeandhealinginchrist.org
SUMMARY:Addiction Recovery ｜ Stacey
DESCRIPTION:Attend online here: qr.link/ue4ZNp
URL:https://hopeandhealinginchrist.org/event/addiction-recovery-stacey_2025/
LOCATION:Chapel
CATEGORIES:Addiction Recovery,Chapel
END:VEVENT
BEGIN:VEVENT
DTSTART;TZID=America/Boise:20250329T134500
DTEND;TZID=America/Boise:20250329T143000
DTSTAMP:20260424T144017
CREATED:20250319T143030Z
LAST-MODIFIED:20250319T143030Z
UID:1274-1743255900-1743258600@hopeandhealinginchrist.org
SUMMARY:Mental Wellness｜ Darla Trent\, LPC\, NCC
DESCRIPTION:Attend online here: qr.link/ue4ZNp
URL:https://hopeandhealinginchrist.org/event/mental-wellness-darla-trent-lpc-ncc_2025-copy/
LOCATION:Chapel
CATEGORIES:Chapel,Mental Wellness
ATTACH;FMTTYPE=image/jpeg:https://hopeandhealinginchrist.org/wp-content/uploads/2025/03/CleanShot-2025-03-19-at-07.20.41@2x.jpg
END:VEVENT
BEGIN:VEVENT
DTSTART;TZID=America/Boise:20250329T144000
DTEND;TZID=America/Boise:20250329T150000
DTSTAMP:20260424T144017
CREATED:20250319T145552Z
LAST-MODIFIED:20250319T145552Z
UID:1309-1743259200-1743260400@hopeandhealinginchrist.org
SUMMARY:Closing Session ｜ President Rob Ririe\, Star Stake President
DESCRIPTION:Attend online here: qr.link/ue4ZNp
URL:https://hopeandhealinginchrist.org/event/closing-session-president-rob-ririe-star-stake-president_2025/
LOCATION:Chapel
CATEGORIES:Chapel,General Session
END:VEVENT
END:VCALENDAR