BEGIN:VCALENDAR
VERSION:2.0
PRODID:-// - ECPv6.15.20//NONSGML v1.0//EN
CALSCALE:GREGORIAN
METHOD:PUBLISH
X-ORIGINAL-URL:https://hopeandhealinginchrist.org
X-WR-CALDESC:Events for 
REFRESH-INTERVAL;VALUE=DURATION:PT1H
X-Robots-Tag:noindex
X-PUBLISHED-TTL:PT1H
BEGIN:VTIMEZONE
TZID:America/Boise
BEGIN:DAYLIGHT
TZOFFSETFROM:-0700
TZOFFSETTO:-0600
TZNAME:MDT
DTSTART:20250309T090000
END:DAYLIGHT
BEGIN:STANDARD
TZOFFSETFROM:-0600
TZOFFSETTO:-0700
TZNAME:MST
DTSTART:20251102T080000
END:STANDARD
BEGIN:DAYLIGHT
TZOFFSETFROM:-0700
TZOFFSETTO:-0600
TZNAME:MDT
DTSTART:20260308T090000
END:DAYLIGHT
BEGIN:STANDARD
TZOFFSETFROM:-0600
TZOFFSETTO:-0700
TZNAME:MST
DTSTART:20261101T080000
END:STANDARD
BEGIN:DAYLIGHT
TZOFFSETFROM:-0700
TZOFFSETTO:-0600
TZNAME:MDT
DTSTART:20270314T090000
END:DAYLIGHT
BEGIN:STANDARD
TZOFFSETFROM:-0600
TZOFFSETTO:-0700
TZNAME:MST
DTSTART:20271107T080000
END:STANDARD
END:VTIMEZONE
BEGIN:VEVENT
DTSTART;TZID=America/Boise:20260418T090000
DTEND;TZID=America/Boise:20260418T093500
DTSTAMP:20260423T155639
CREATED:20260414T060927Z
LAST-MODIFIED:20260414T065220Z
UID:1370-1776502800-1776504900@hopeandhealinginchrist.org
SUMMARY:Opening Session ｜ Jason Coombs
DESCRIPTION:Attend online here: qr.link/ue4ZNp
URL:https://hopeandhealinginchrist.org/event/opening-session-jason-coombs/
LOCATION:Chapel
CATEGORIES:Chapel,General Session
ATTACH;FMTTYPE=image/jpeg:https://hopeandhealinginchrist.org/wp-content/uploads/2026/04/CleanShot-2026-04-13-at-22.53.53@2x-Large.jpeg
END:VEVENT
BEGIN:VEVENT
DTSTART;TZID=America/Boise:20260418T124000
DTEND;TZID=America/Boise:20260418T130000
DTSTAMP:20260423T155639
CREATED:20260414T060050Z
LAST-MODIFIED:20260418T075529Z
UID:1363-1776516000-1776517200@hopeandhealinginchrist.org
SUMMARY:Closing Session ｜ President Rob Ririe\, Star Stake President
DESCRIPTION:Attend online here: Click Here
URL:https://hopeandhealinginchrist.org/event/closing-session-president-rob-ririe-star-stake-president-2026/
LOCATION:Chapel
CATEGORIES:Chapel,General Session
END:VEVENT
BEGIN:VEVENT
DTSTART;TZID=America/Boise:20260418T130000
DTEND;TZID=America/Boise:20260418T150000
DTSTAMP:20260423T155639
CREATED:20260414T055149Z
LAST-MODIFIED:20260414T061100Z
UID:1356-1776517200-1776524400@hopeandhealinginchrist.org
SUMMARY:Lunch Break
DESCRIPTION:
URL:https://hopeandhealinginchrist.org/event/lunch-break-2026/
LOCATION:1st Half of Gym
CATEGORIES:1st Half of Gym,2nd Half of Gym,Addiction Recovery,Anxiety Management,Chapel,Emotional Resilience,Family Support,General Session,Keynotes,Leadership Support,Mental Wellness,Personal Success Stories,Primary Room,Q&A,Relief Society Room,Suicide Awareness,Trauma Support
ATTACH;FMTTYPE=image/webp:https://hopeandhealinginchrist.org/wp-content/uploads/2023/02/picnic-day-snippet-lunch-break-graphic-element-embellishment-word-art-outdoors-summer-orange-white.webp
END:VEVENT
END:VCALENDAR