BEGIN:VCALENDAR
VERSION:2.0
PRODID:-// - ECPv6.15.20//NONSGML v1.0//EN
CALSCALE:GREGORIAN
METHOD:PUBLISH
X-ORIGINAL-URL:https://hopeandhealinginchrist.org
X-WR-CALDESC:Events for 
REFRESH-INTERVAL;VALUE=DURATION:PT1H
X-Robots-Tag:noindex
X-PUBLISHED-TTL:PT1H
BEGIN:VTIMEZONE
TZID:America/Boise
BEGIN:DAYLIGHT
TZOFFSETFROM:-0700
TZOFFSETTO:-0600
TZNAME:MDT
DTSTART:20250309T090000
END:DAYLIGHT
BEGIN:STANDARD
TZOFFSETFROM:-0600
TZOFFSETTO:-0700
TZNAME:MST
DTSTART:20251102T080000
END:STANDARD
BEGIN:DAYLIGHT
TZOFFSETFROM:-0700
TZOFFSETTO:-0600
TZNAME:MDT
DTSTART:20260308T090000
END:DAYLIGHT
BEGIN:STANDARD
TZOFFSETFROM:-0600
TZOFFSETTO:-0700
TZNAME:MST
DTSTART:20261101T080000
END:STANDARD
BEGIN:DAYLIGHT
TZOFFSETFROM:-0700
TZOFFSETTO:-0600
TZNAME:MDT
DTSTART:20270314T090000
END:DAYLIGHT
BEGIN:STANDARD
TZOFFSETFROM:-0600
TZOFFSETTO:-0700
TZNAME:MST
DTSTART:20271107T080000
END:STANDARD
END:VTIMEZONE
BEGIN:VEVENT
DTSTART;TZID=America/Boise:20260418T121000
DTEND;TZID=America/Boise:20260418T123500
DTSTAMP:20260423T143211
CREATED:20260414T063209Z
LAST-MODIFIED:20260416T183043Z
UID:1396-1776514200-1776515700@hopeandhealinginchrist.org
SUMMARY:Trevor
DESCRIPTION:No Online. In Person Only
URL:https://hopeandhealinginchrist.org/event/trevor/
LOCATION:Relief Society Room
CATEGORIES:Grief,Relief Society Room
END:VEVENT
BEGIN:VEVENT
DTSTART;TZID=America/Boise:20260418T104000
DTEND;TZID=America/Boise:20260418T110500
DTSTAMP:20260423T143211
CREATED:20260414T062733Z
LAST-MODIFIED:20260416T183208Z
UID:1390-1776508800-1776510300@hopeandhealinginchrist.org
SUMMARY:Brin
DESCRIPTION:No Online. In Person Only
URL:https://hopeandhealinginchrist.org/event/brin/
LOCATION:Relief Society Room
CATEGORIES:Grief,Relief Society Room
END:VEVENT
BEGIN:VEVENT
DTSTART;TZID=America/Boise:20260418T094500
DTEND;TZID=America/Boise:20260418T103000
DTSTAMP:20260423T143211
CREATED:20260414T062241Z
LAST-MODIFIED:20260416T182812Z
UID:1383-1776505500-1776508200@hopeandhealinginchrist.org
SUMMARY:Juel Higuera
DESCRIPTION:Attend online here: qr.link/IMjWK8
URL:https://hopeandhealinginchrist.org/event/juel-higuera/
LOCATION:Relief Society Room
CATEGORIES:Grief,Relief Society Room
ATTACH;FMTTYPE=image/jpeg:https://hopeandhealinginchrist.org/wp-content/uploads/2026/04/CleanShot-2026-04-13-at-23.27.47@2x-Large.jpeg
END:VEVENT
END:VCALENDAR