BEGIN:VCALENDAR
VERSION:2.0
PRODID:-// - ECPv6.15.20//NONSGML v1.0//EN
CALSCALE:GREGORIAN
METHOD:PUBLISH
X-ORIGINAL-URL:https://hopeandhealinginchrist.org
X-WR-CALDESC:Events for 
REFRESH-INTERVAL;VALUE=DURATION:PT1H
X-Robots-Tag:noindex
X-PUBLISHED-TTL:PT1H
BEGIN:VTIMEZONE
TZID:America/Boise
BEGIN:DAYLIGHT
TZOFFSETFROM:-0700
TZOFFSETTO:-0600
TZNAME:MDT
DTSTART:20250309T090000
END:DAYLIGHT
BEGIN:STANDARD
TZOFFSETFROM:-0600
TZOFFSETTO:-0700
TZNAME:MST
DTSTART:20251102T080000
END:STANDARD
BEGIN:DAYLIGHT
TZOFFSETFROM:-0700
TZOFFSETTO:-0600
TZNAME:MDT
DTSTART:20260308T090000
END:DAYLIGHT
BEGIN:STANDARD
TZOFFSETFROM:-0600
TZOFFSETTO:-0700
TZNAME:MST
DTSTART:20261101T080000
END:STANDARD
BEGIN:DAYLIGHT
TZOFFSETFROM:-0700
TZOFFSETTO:-0600
TZNAME:MDT
DTSTART:20270314T090000
END:DAYLIGHT
BEGIN:STANDARD
TZOFFSETFROM:-0600
TZOFFSETTO:-0700
TZNAME:MST
DTSTART:20271107T080000
END:STANDARD
END:VTIMEZONE
BEGIN:VEVENT
DTSTART;TZID=America/Boise:20260418T130000
DTEND;TZID=America/Boise:20260418T150000
DTSTAMP:20260423T143216
CREATED:20260414T055149Z
LAST-MODIFIED:20260414T061100Z
UID:1356-1776517200-1776524400@hopeandhealinginchrist.org
SUMMARY:Lunch Break
DESCRIPTION:
URL:https://hopeandhealinginchrist.org/event/lunch-break-2026/
LOCATION:1st Half of Gym
CATEGORIES:1st Half of Gym,2nd Half of Gym,Addiction Recovery,Anxiety Management,Chapel,Emotional Resilience,Family Support,General Session,Keynotes,Leadership Support,Mental Wellness,Personal Success Stories,Primary Room,Q&A,Relief Society Room,Suicide Awareness,Trauma Support
ATTACH;FMTTYPE=image/webp:https://hopeandhealinginchrist.org/wp-content/uploads/2023/02/picnic-day-snippet-lunch-break-graphic-element-embellishment-word-art-outdoors-summer-orange-white.webp
END:VEVENT
BEGIN:VEVENT
DTSTART;TZID=America/Boise:20260418T121000
DTEND;TZID=America/Boise:20260418T123500
DTSTAMP:20260423T143216
CREATED:20260414T064254Z
LAST-MODIFIED:20260416T183027Z
UID:1405-1776514200-1776515700@hopeandhealinginchrist.org
SUMMARY:Diana Neff
DESCRIPTION:Attend online here: qr.link/UZbxRO
URL:https://hopeandhealinginchrist.org/event/diana-neff/
LOCATION:Primary Room
CATEGORIES:Belonging,Primary Room
END:VEVENT
BEGIN:VEVENT
DTSTART;TZID=America/Boise:20260418T111500
DTEND;TZID=America/Boise:20260418T120000
DTSTAMP:20260423T143216
CREATED:20260414T064059Z
LAST-MODIFIED:20260416T183112Z
UID:1403-1776510900-1776513600@hopeandhealinginchrist.org
SUMMARY:Cristi Dame
DESCRIPTION:Attend online here: qr.link/UZbxRO
URL:https://hopeandhealinginchrist.org/event/cristi-dame/
LOCATION:Primary Room
CATEGORIES:Boundaries,Primary Room
ATTACH;FMTTYPE=image/jpeg:https://hopeandhealinginchrist.org/wp-content/uploads/2026/04/CleanShot-2026-04-13-at-23.42.15@2x-Large.jpeg
END:VEVENT
BEGIN:VEVENT
DTSTART;TZID=America/Boise:20260418T104000
DTEND;TZID=America/Boise:20260418T110500
DTSTAMP:20260423T143216
CREATED:20260414T063818Z
LAST-MODIFIED:20260416T183155Z
UID:1401-1776508800-1776510300@hopeandhealinginchrist.org
SUMMARY:Mike and Seth
DESCRIPTION:Attend online here: qr.link/UZbxRO
URL:https://hopeandhealinginchrist.org/event/mike-and-seth/
LOCATION:Primary Room
CATEGORIES:Addiction Recovery,Primary Room
END:VEVENT
BEGIN:VEVENT
DTSTART;TZID=America/Boise:20260418T094500
DTEND;TZID=America/Boise:20260418T103000
DTSTAMP:20260423T143216
CREATED:20260414T063542Z
LAST-MODIFIED:20260416T183302Z
UID:1398-1776505500-1776508200@hopeandhealinginchrist.org
SUMMARY:Leena Martin-Weaver\, Ed.S.\, NCSP\, School Psychologist
DESCRIPTION:Attend online here: qr.link/UZbxRO
URL:https://hopeandhealinginchrist.org/event/leena-martin-weaver-ed-s-ncsp-school-psychologist/
LOCATION:Primary Room
CATEGORIES:Family Support,Primary Room
ATTACH;FMTTYPE=image/jpeg:https://hopeandhealinginchrist.org/wp-content/uploads/2026/04/CleanShot-2026-04-13-at-23.37.18@2x-Large.jpeg
END:VEVENT
END:VCALENDAR