BEGIN:VCALENDAR
VERSION:2.0
PRODID:-// - ECPv6.15.20//NONSGML v1.0//EN
CALSCALE:GREGORIAN
METHOD:PUBLISH
X-ORIGINAL-URL:https://hopeandhealinginchrist.org
X-WR-CALDESC:Events for 
REFRESH-INTERVAL;VALUE=DURATION:PT1H
X-Robots-Tag:noindex
X-PUBLISHED-TTL:PT1H
BEGIN:VTIMEZONE
TZID:America/Boise
BEGIN:DAYLIGHT
TZOFFSETFROM:-0700
TZOFFSETTO:-0600
TZNAME:MDT
DTSTART:20210314T090000
END:DAYLIGHT
BEGIN:STANDARD
TZOFFSETFROM:-0600
TZOFFSETTO:-0700
TZNAME:MST
DTSTART:20211107T080000
END:STANDARD
BEGIN:DAYLIGHT
TZOFFSETFROM:-0700
TZOFFSETTO:-0600
TZNAME:MDT
DTSTART:20220313T090000
END:DAYLIGHT
BEGIN:STANDARD
TZOFFSETFROM:-0600
TZOFFSETTO:-0700
TZNAME:MST
DTSTART:20221106T080000
END:STANDARD
BEGIN:DAYLIGHT
TZOFFSETFROM:-0700
TZOFFSETTO:-0600
TZNAME:MDT
DTSTART:20230312T090000
END:DAYLIGHT
BEGIN:STANDARD
TZOFFSETFROM:-0600
TZOFFSETTO:-0700
TZNAME:MST
DTSTART:20231105T080000
END:STANDARD
BEGIN:DAYLIGHT
TZOFFSETFROM:-0700
TZOFFSETTO:-0600
TZNAME:MDT
DTSTART:20240310T090000
END:DAYLIGHT
BEGIN:STANDARD
TZOFFSETFROM:-0600
TZOFFSETTO:-0700
TZNAME:MST
DTSTART:20241103T080000
END:STANDARD
BEGIN:DAYLIGHT
TZOFFSETFROM:-0700
TZOFFSETTO:-0600
TZNAME:MDT
DTSTART:20250309T090000
END:DAYLIGHT
BEGIN:STANDARD
TZOFFSETFROM:-0600
TZOFFSETTO:-0700
TZNAME:MST
DTSTART:20251102T080000
END:STANDARD
END:VTIMEZONE
BEGIN:VEVENT
DTSTART;TZID=America/Boise:20240302T113000
DTEND;TZID=America/Boise:20240302T123000
DTSTAMP:20260423T181927
CREATED:20240227T181632Z
LAST-MODIFIED:20240227T183917Z
UID:1184-1709379000-1709382600@hopeandhealinginchrist.org
SUMMARY:Mental Wellness ｜ Jeff Johnson\, Pharm-D\, PA-C
DESCRIPTION:Attend the via Zoom here: https://zoom.us/j/94965638040
URL:https://hopeandhealinginchrist.org/event/mental-wellness-jeff-johnson-pharm-d-pa-c/
LOCATION:2nd Half of Gym
CATEGORIES:2nd Half of Gym,Mental Wellness
ATTACH;FMTTYPE=image/jpeg:https://hopeandhealinginchrist.org/wp-content/uploads/2018/02/cropped-pictures-of-jesus-1138494-high-res-print.jpg
END:VEVENT
BEGIN:VEVENT
DTSTART;TZID=America/Boise:20240302T113000
DTEND;TZID=America/Boise:20240302T123000
DTSTAMP:20260423T181927
CREATED:20240227T180553Z
LAST-MODIFIED:20240227T183929Z
UID:1169-1709379000-1709382600@hopeandhealinginchrist.org
SUMMARY:Addiction Recovery ｜ Matthew Butler
DESCRIPTION:Attend the via Zoom here: https://zoom.us/j/99816548585
URL:https://hopeandhealinginchrist.org/event/addiction-recovery-matthew-butler/
LOCATION:1st Half of Gym
CATEGORIES:1st Half of Gym,Addiction Recovery
ATTACH;FMTTYPE=image/jpeg:https://hopeandhealinginchrist.org/wp-content/uploads/2018/02/cropped-pictures-of-jesus-1138494-high-res-print.jpg
END:VEVENT
BEGIN:VEVENT
DTSTART;TZID=America/Boise:20240302T103000
DTEND;TZID=America/Boise:20240302T123000
DTSTAMP:20260423T181927
CREATED:20240227T175139Z
LAST-MODIFIED:20240227T183939Z
UID:1160-1709375400-1709382600@hopeandhealinginchrist.org
SUMMARY:Leadership Support ｜ Amy Curtis\, DeAnn Thomas\, Jeff Wood\, Ben and Mindy Bodmer
DESCRIPTION:Attend the via Zoom here: https://zoom.us/j/96979271638
URL:https://hopeandhealinginchrist.org/event/leadership-support-amy-curtis-deann-thomas-jeff-wood-ben-and-mindy-bodmer/
LOCATION:Chapel
CATEGORIES:Chapel,Leadership Support
ATTACH;FMTTYPE=image/jpeg:https://hopeandhealinginchrist.org/wp-content/uploads/2023/02/Amy-Curtis.jpg
END:VEVENT
BEGIN:VEVENT
DTSTART;TZID=America/Boise:20240302T103000
DTEND;TZID=America/Boise:20240302T113000
DTSTAMP:20260423T181927
CREATED:20240227T182217Z
LAST-MODIFIED:20240227T183950Z
UID:1192-1709375400-1709379000@hopeandhealinginchrist.org
SUMMARY:Addiction Recovery ｜ Erin & Mike
DESCRIPTION:This event is LIVE ONLY. No Zoom access will be provided.
URL:https://hopeandhealinginchrist.org/event/addiction-recovery-erin-mike/
LOCATION:Relief Society Room
CATEGORIES:Addiction Recovery,Relief Society Room
ATTACH;FMTTYPE=image/jpeg:https://hopeandhealinginchrist.org/wp-content/uploads/2018/02/cropped-pictures-of-jesus-1138494-high-res-print.jpg
END:VEVENT
BEGIN:VEVENT
DTSTART;TZID=America/Boise:20240302T103000
DTEND;TZID=America/Boise:20240302T113000
DTSTAMP:20260423T181927
CREATED:20240227T181415Z
LAST-MODIFIED:20240227T184005Z
UID:1181-1709375400-1709379000@hopeandhealinginchrist.org
SUMMARY:Emotional Resilience & Mental Wellness ｜ Kari & Dave
DESCRIPTION:Attend the via Zoom here: https://zoom.us/j/94965638040
URL:https://hopeandhealinginchrist.org/event/emotional-resilience-mental-wellness-kari-dave/
LOCATION:2nd Half of Gym
CATEGORIES:2nd Half of Gym,Emotional Resilience,Mental Wellness
ATTACH;FMTTYPE=image/jpeg:https://hopeandhealinginchrist.org/wp-content/uploads/2018/02/cropped-pictures-of-jesus-1138494-high-res-print.jpg
END:VEVENT
BEGIN:VEVENT
DTSTART;TZID=America/Boise:20240302T103000
DTEND;TZID=America/Boise:20240302T113000
DTSTAMP:20260423T181927
CREATED:20240227T180314Z
LAST-MODIFIED:20240227T184018Z
UID:1166-1709375400-1709379000@hopeandhealinginchrist.org
SUMMARY:Anxiety Management ｜ Angelee Davis
DESCRIPTION:Attend the via Zoom here: https://zoom.us/j/99816548585
URL:https://hopeandhealinginchrist.org/event/anxiety-management-angelee-davis/
LOCATION:1st Half of Gym
CATEGORIES:1st Half of Gym,Anxiety Management
ATTACH;FMTTYPE=image/png:https://hopeandhealinginchrist.org/wp-content/uploads/2024/02/2024_-_Biographies_and_Class_Descriptions_pdf.png
END:VEVENT
BEGIN:VEVENT
DTSTART;TZID=America/Boise:20240302T090000
DTEND;TZID=America/Boise:20240302T103000
DTSTAMP:20260423T181927
CREATED:20240227T174453Z
LAST-MODIFIED:20240228T042504Z
UID:1155-1709370000-1709375400@hopeandhealinginchrist.org
SUMMARY:General Session ｜ Evan and Melissa Hathaway
DESCRIPTION:Attend the via Zoom here: https://zoom.us/j/96979271638
URL:https://hopeandhealinginchrist.org/event/general-session-evan-and-melissa-hathaway/
LOCATION:Chapel
CATEGORIES:Chapel,General Session
ATTACH;FMTTYPE=image/jpeg:https://hopeandhealinginchrist.org/wp-content/uploads/2024/02/Evan-Missy.jpg
END:VEVENT
BEGIN:VEVENT
DTSTART;TZID=America/Boise:20230311T163000
DTEND;TZID=America/Boise:20230311T173000
DTSTAMP:20260423T181927
CREATED:20230222T192248Z
LAST-MODIFIED:20240227T184114Z
UID:984-1678552200-1678555800@hopeandhealinginchrist.org
SUMMARY:Closing (Chapel) | Open House-Style Q&A Session (Gym)
DESCRIPTION:This event is LIVE ONLY. No Zoom access will be provided.
URL:https://hopeandhealinginchrist.org/event/closing-chapel-open-house-style-qa-session-gym-2/
LOCATION:Chapel
CATEGORIES:Keynotes,Q&A
ATTACH;FMTTYPE=image/jpeg:https://hopeandhealinginchrist.org/wp-content/uploads/2018/02/cropped-pictures-of-jesus-1138494-high-res-print.jpg
END:VEVENT
BEGIN:VEVENT
DTSTART;TZID=America/Boise:20230311T153000
DTEND;TZID=America/Boise:20230311T162000
DTSTAMP:20260423T181927
CREATED:20230222T191902Z
LAST-MODIFIED:20230223T011823Z
UID:981-1678548600-1678551600@hopeandhealinginchrist.org
SUMMARY:“Seeing As We Are Seen\, and Knowing As We Are Known”: How Healing in Christ Deepens Our Relationships ｜ Speaker: Ty Mansfield\, LMFT\, PhD ｜ Special Music Performance: Shane Carlson
DESCRIPTION:Attend the via Zoom here: https://zoom.us/j/92719655977
URL:https://hopeandhealinginchrist.org/event/seeing-as-we-are-seen-and-knowing-as-we-are-known-how-healing-in-christ-deepens-our-relationships-%ef%bd%9c-speaker-ty-mansfield-lmft-phd-%ef%bd%9c-special-music-performance-sh/
LOCATION:Chapel
CATEGORIES:Keynotes
ATTACH;FMTTYPE=image/jpeg:https://hopeandhealinginchrist.org/wp-content/uploads/2023/02/Ty-Mansfield.jpg
END:VEVENT
BEGIN:VEVENT
DTSTART;TZID=America/Boise:20230311T143000
DTEND;TZID=America/Boise:20230311T152000
DTSTAMP:20260423T181927
CREATED:20230222T195143Z
LAST-MODIFIED:20230223T011814Z
UID:1010-1678545000-1678548000@hopeandhealinginchrist.org
SUMMARY:Family Support ｜ "Wherefore\, be faithful;...succor the weak\, lift up the hands which hang down\, and strengthen the feeble knees” (D&C 81:5) ｜ Speaker: Amy Curtis\, Director of Boise Family Services
DESCRIPTION:Attend the via Zoom here: https://zoom.us/j/93262513422
URL:https://hopeandhealinginchrist.org/event/family-support-%ef%bd%9c-wherefore-be-faithful-succor-the-weak-lift-up-the-hands-which-hang-down-and-strengthen-the-feeble-knees-dc-815-%ef%bd%9c-speaker-amy-curtis-director-of/
LOCATION:Relief Society Room
CATEGORIES:Family Support
ATTACH;FMTTYPE=image/jpeg:https://hopeandhealinginchrist.org/wp-content/uploads/2023/02/Amy-Curtis.jpg
END:VEVENT
BEGIN:VEVENT
DTSTART;TZID=America/Boise:20230311T143000
DTEND;TZID=America/Boise:20230311T152000
DTSTAMP:20260423T181927
CREATED:20230222T193829Z
LAST-MODIFIED:20230222T193905Z
UID:998-1678545000-1678548000@hopeandhealinginchrist.org
SUMMARY:Addiction Recovery ｜ Couple Recovery Story ｜ Speakers: Zach & Lisa
DESCRIPTION:Attend the via Zoom here: https://zoom.us/j/96434638855
URL:https://hopeandhealinginchrist.org/event/addiction-recovery-%ef%bd%9c-couple-recovery-story-%ef%bd%9c-speakers-zach-lisa/
LOCATION:1st Half of Gym
CATEGORIES:Addiction Recovery
ATTACH;FMTTYPE=image/jpeg:https://hopeandhealinginchrist.org/wp-content/uploads/2018/02/cropped-pictures-of-jesus-1138494-high-res-print.jpg
END:VEVENT
BEGIN:VEVENT
DTSTART;TZID=America/Boise:20230311T143000
DTEND;TZID=America/Boise:20230311T152000
DTSTAMP:20260423T181927
CREATED:20230222T191511Z
LAST-MODIFIED:20230222T191512Z
UID:978-1678545000-1678548000@hopeandhealinginchrist.org
SUMMARY:Mental Wellness ｜ How I Navigated My Daughter's Suicide Attempt ｜ Speaker: Nicole Love
DESCRIPTION:This event is LIVE ONLY. No Zoom access will be provided.
URL:https://hopeandhealinginchrist.org/event/mental-wellness-%ef%bd%9c-how-i-navigated-my-daughters-suicide-attempt-%ef%bd%9c-speaker-nicole-love/
LOCATION:2nd Half of Gym
CATEGORIES:Mental Wellness
ATTACH;FMTTYPE=image/jpeg:https://hopeandhealinginchrist.org/wp-content/uploads/2018/02/cropped-pictures-of-jesus-1138494-high-res-print.jpg
END:VEVENT
BEGIN:VEVENT
DTSTART;TZID=America/Boise:20230311T133000
DTEND;TZID=America/Boise:20230311T142000
DTSTAMP:20260423T181927
CREATED:20230222T194950Z
LAST-MODIFIED:20230223T011805Z
UID:1007-1678541400-1678544400@hopeandhealinginchrist.org
SUMMARY:Family Support ｜ Betrayal Trauma ｜ Speaker: Kathy Barnum MA\, LCPC
DESCRIPTION:Attend the via Zoom here: https://zoom.us/j/93262513422
URL:https://hopeandhealinginchrist.org/event/family-support-%ef%bd%9c-betrayal-trauma-%ef%bd%9c-speaker-kathy-barnum-ma-lcpc/
LOCATION:Relief Society Room
CATEGORIES:Family Support
ATTACH;FMTTYPE=image/jpeg:https://hopeandhealinginchrist.org/wp-content/uploads/2023/02/Kathy-Barnum.jpg
END:VEVENT
BEGIN:VEVENT
DTSTART;TZID=America/Boise:20230311T133000
DTEND;TZID=America/Boise:20230311T142000
DTSTAMP:20260423T181927
CREATED:20230222T193520Z
LAST-MODIFIED:20230222T193853Z
UID:993-1678541400-1678544400@hopeandhealinginchrist.org
SUMMARY:Addiction Recovery ｜ Stories of Hope and Healing ｜ Speakers: Kim\, Ken\, and Will
DESCRIPTION:Attend the via Zoom here: https://zoom.us/j/96434638855
URL:https://hopeandhealinginchrist.org/event/addiction-recovery-%ef%bd%9c-stories-of-hope-and-healing-%ef%bd%9c-speakers-kim-ken-and-will/
LOCATION:1st Half of Gym
CATEGORIES:Addiction Recovery
ATTACH;FMTTYPE=image/jpeg:https://hopeandhealinginchrist.org/wp-content/uploads/2018/02/cropped-pictures-of-jesus-1138494-high-res-print.jpg
END:VEVENT
BEGIN:VEVENT
DTSTART;TZID=America/Boise:20230311T133000
DTEND;TZID=America/Boise:20230311T142000
DTSTAMP:20260423T181927
CREATED:20230222T191002Z
LAST-MODIFIED:20230223T011757Z
UID:975-1678541400-1678544400@hopeandhealinginchrist.org
SUMMARY:Mental Wellness ｜ The Hopeful Paradigm Shift We So Desperately Need ｜ Speaker: Clay Olsen\, CEO of Fight the New Drug
DESCRIPTION:Attend the via Zoom here: https://zoom.us/j/93113954995
URL:https://hopeandhealinginchrist.org/event/mental-wellness-%ef%bd%9c-the-hopeful-paradigm-shift-we-so-desperately-need-%ef%bd%9c-speaker-clay-olsen-ceo-of-fight-the-new-drug/
LOCATION:2nd Half of Gym
CATEGORIES:Mental Wellness
ATTACH;FMTTYPE=image/jpeg:https://hopeandhealinginchrist.org/wp-content/uploads/2023/02/Clay-Olsen.jpg
END:VEVENT
BEGIN:VEVENT
DTSTART;TZID=America/Boise:20230311T123000
DTEND;TZID=America/Boise:20230311T133000
DTSTAMP:20260423T181927
CREATED:20230223T005114Z
LAST-MODIFIED:20230223T182211Z
UID:1045-1678537800-1678541400@hopeandhealinginchrist.org
SUMMARY:Lunch Break
DESCRIPTION:
URL:https://hopeandhealinginchrist.org/event/lunch-break-2/
CATEGORIES:Addiction Recovery,Family Support,General Session,Keynotes,Mental Wellness,Personal Success Stories,Q&A
ATTACH;FMTTYPE=image/webp:https://hopeandhealinginchrist.org/wp-content/uploads/2023/02/picnic-day-snippet-lunch-break-graphic-element-embellishment-word-art-outdoors-summer-orange-white.webp
END:VEVENT
BEGIN:VEVENT
DTSTART;TZID=America/Boise:20230311T113000
DTEND;TZID=America/Boise:20230311T122000
DTSTAMP:20260423T181927
CREATED:20230222T194805Z
LAST-MODIFIED:20230223T011749Z
UID:1005-1678534200-1678537200@hopeandhealinginchrist.org
SUMMARY:Family Support ｜ 10 Conversations to Have with a Loved One with Mental Health Challenges ｜ Speaker: Rachel Jessen\, LCSW
DESCRIPTION:This event is LIVE ONLY. No Zoom access will be provided.
URL:https://hopeandhealinginchrist.org/event/family-support-%ef%bd%9c-10-conversations-to-have-with-a-loved-one-with-mental-health-challenges-%ef%bd%9c-speaker-rachel-jessen-lcsw/
LOCATION:Relief Society Room
CATEGORIES:Family Support
ATTACH;FMTTYPE=image/jpeg:https://hopeandhealinginchrist.org/wp-content/uploads/2023/02/Rachel-Jessen.jpg
END:VEVENT
BEGIN:VEVENT
DTSTART;TZID=America/Boise:20230311T113000
DTEND;TZID=America/Boise:20230311T122000
DTSTAMP:20260423T181927
CREATED:20230222T192933Z
LAST-MODIFIED:20230223T011741Z
UID:991-1678534200-1678537200@hopeandhealinginchrist.org
SUMMARY:Addiction Recovery ｜ Building Motivation and Resisting Urges - Wanting to Want It ｜ Speaker: Clay Olsen\, CEO of Fight the New Drug
DESCRIPTION:Attend the via Zoom here: https://zoom.us/j/96434638855
URL:https://hopeandhealinginchrist.org/event/addiction-recovery-%ef%bd%9c-building-motivation-and-resisting-urges-wanting-to-want-it-%ef%bd%9c-speaker-clay-olsen-ceo-of-fight-the-new-drug/
LOCATION:1st Half of Gym
CATEGORIES:Addiction Recovery
ATTACH;FMTTYPE=image/jpeg:https://hopeandhealinginchrist.org/wp-content/uploads/2023/02/Clay-Olsen.jpg
END:VEVENT
BEGIN:VEVENT
DTSTART;TZID=America/Boise:20230311T113000
DTEND;TZID=America/Boise:20230311T122000
DTSTAMP:20260423T181927
CREATED:20230222T190702Z
LAST-MODIFIED:20230223T011732Z
UID:973-1678534200-1678537200@hopeandhealinginchrist.org
SUMMARY:Mental Wellness ｜ Cultivating Stillness When Life is Loud ｜ Speaker: Ty Mansfield\, LMFT\, PhD
DESCRIPTION:Attend the via Zoom here: https://zoom.us/j/93113954995
URL:https://hopeandhealinginchrist.org/event/mental-wellness-%ef%bd%9c-cultivating-stillness-when-life-is-loud-%ef%bd%9c-speaker-ty-mansfield-lmft-phd/
LOCATION:2nd Half of Gym
CATEGORIES:Mental Wellness
ATTACH;FMTTYPE=image/jpeg:https://hopeandhealinginchrist.org/wp-content/uploads/2023/02/Ty-Mansfield.jpg
END:VEVENT
BEGIN:VEVENT
DTSTART;TZID=America/Boise:20230311T103000
DTEND;TZID=America/Boise:20230311T232000
DTSTAMP:20260423T181927
CREATED:20230222T190107Z
LAST-MODIFIED:20230223T004915Z
UID:968-1678530600-1678576800@hopeandhealinginchrist.org
SUMMARY:Mental Wellness ｜ Stories of Hope and Healing ｜ Speakers: Darla\, Evan
DESCRIPTION:Attend the via Zoom here: https://zoom.us/j/93113954995
URL:https://hopeandhealinginchrist.org/event/mental-wellness-%ef%bd%9c-stories-of-hope-and-healing-%ef%bd%9c-speakers-darla-evan/
LOCATION:2nd Half of Gym
CATEGORIES:Mental Wellness
ATTACH;FMTTYPE=image/jpeg:https://hopeandhealinginchrist.org/wp-content/uploads/2018/02/cropped-pictures-of-jesus-1138494-high-res-print.jpg
END:VEVENT
BEGIN:VEVENT
DTSTART;TZID=America/Boise:20230311T103000
DTEND;TZID=America/Boise:20230311T122000
DTSTAMP:20260423T181927
CREATED:20230222T200041Z
LAST-MODIFIED:20230303T231408Z
UID:1013-1678530600-1678537200@hopeandhealinginchrist.org
SUMMARY:Leadership Support | Speakers: Amy Curtis\, Seth & Nicole\, Bishop Meyers\, Kurt Francom
DESCRIPTION:Attend the via Zoom here: https://zoom.us/j/92719655977
URL:https://hopeandhealinginchrist.org/event/leadership-support-speakers-amy-curtis-seth-nicole-bishop-meyers-kurt-francom/
LOCATION:Chapel
CATEGORIES:Keynotes,Leadership Support
ATTACH;FMTTYPE=image/jpeg:https://hopeandhealinginchrist.org/wp-content/uploads/2023/02/Kurt-Francom.jpg
END:VEVENT
BEGIN:VEVENT
DTSTART;TZID=America/Boise:20230311T103000
DTEND;TZID=America/Boise:20230311T112000
DTSTAMP:20260423T181927
CREATED:20230222T194336Z
LAST-MODIFIED:20230222T194337Z
UID:1001-1678530600-1678533600@hopeandhealinginchrist.org
SUMMARY:Family Support ｜ Stories of Hope and Healing ｜ Speakers: Russ & Pam (parents) and Amy (spouse)
DESCRIPTION:Attend the via Zoom here: https://zoom.us/j/93262513422
URL:https://hopeandhealinginchrist.org/event/family-support-%ef%bd%9c-stories-of-hope-and-healing-%ef%bd%9c-speakers-russ-pam-parents-and-amy-spouse/
LOCATION:Relief Society Room
CATEGORIES:Family Support
ATTACH;FMTTYPE=image/jpeg:https://hopeandhealinginchrist.org/wp-content/uploads/2018/02/cropped-pictures-of-jesus-1138494-high-res-print.jpg
END:VEVENT
BEGIN:VEVENT
DTSTART;TZID=America/Boise:20230311T103000
DTEND;TZID=America/Boise:20230311T112000
DTSTAMP:20260423T181927
CREATED:20230222T192707Z
LAST-MODIFIED:20230222T192718Z
UID:986-1678530600-1678533600@hopeandhealinginchrist.org
SUMMARY:Addiction Recovery ｜ Stories of Hope and Healing ｜ Speakers: Andrea\, Mark\, and Kyle
DESCRIPTION:Attend the via Zoom here: https://zoom.us/j/96434638855
URL:https://hopeandhealinginchrist.org/event/addiction-recovery-%ef%bd%9c-stories-of-hope-and-healing-%ef%bd%9c-speakers-andrea-mark-and-kyle/
LOCATION:1st Half of Gym
CATEGORIES:Addiction Recovery
ATTACH;FMTTYPE=image/jpeg:https://hopeandhealinginchrist.org/wp-content/uploads/2018/02/cropped-pictures-of-jesus-1138494-high-res-print.jpg
END:VEVENT
BEGIN:VEVENT
DTSTART;TZID=America/Boise:20230311T090000
DTEND;TZID=America/Boise:20230311T101500
DTSTAMP:20260423T181927
CREATED:20230222T184740Z
LAST-MODIFIED:20230223T011653Z
UID:959-1678525200-1678529700@hopeandhealinginchrist.org
SUMMARY:General Session in the Chapel ｜ Speaker: Kurt Francom ｜ Special Music Performances: Nicole Ahlstrom & Men's Choir
DESCRIPTION:Attend the via Zoom here: https://zoom.us/j/92719655977
URL:https://hopeandhealinginchrist.org/event/general-session-in-the-chapel-%ef%bd%9c-speaker-kurt-francom-%ef%bd%9c-special-music-performances-nicole-ahlstrom-mens-choir/
LOCATION:Chapel
CATEGORIES:General Session,Keynotes
ATTACH;FMTTYPE=image/jpeg:https://hopeandhealinginchrist.org/wp-content/uploads/2023/02/Kurt-Francom.jpg
END:VEVENT
BEGIN:VEVENT
DTSTART;TZID=America/Boise:20220312T165000
DTEND;TZID=America/Boise:20220312T173000
DTSTAMP:20260423T181927
CREATED:20220308T075512Z
LAST-MODIFIED:20220308T075513Z
UID:869-1647103800-1647106200@hopeandhealinginchrist.org
SUMMARY:Closing (Chapel) | Open House-Style Q&A Session (Gym)
DESCRIPTION:Bring your questions and speak with one of our presenters in an open house-style Q&A session in the gym.
URL:https://hopeandhealinginchrist.org/event/closing-chapel-open-house-style-qa-session-gym/
LOCATION:Chapel
CATEGORIES:General Session,Q&A
ATTACH;FMTTYPE=image/jpeg:https://hopeandhealinginchrist.org/wp-content/uploads/2018/02/pictures-of-jesus-1138494-high-res-print.jpg
END:VEVENT
BEGIN:VEVENT
DTSTART;TZID=America/Boise:20220312T160000
DTEND;TZID=America/Boise:20220312T165000
DTSTAMP:20260423T181927
CREATED:20220308T081237Z
LAST-MODIFIED:20220308T081325Z
UID:885-1647100800-1647103800@hopeandhealinginchrist.org
SUMMARY:Love is Stronger than Shame | Clay Olsen\, CEO of Fight the New Drug
DESCRIPTION:Love is Stronger than Shame | Clay Olsen\, CEO of Fight the New Drug
URL:https://hopeandhealinginchrist.org/event/love-is-stronger-than-shame-clay-olsen-ceo-of-fight-the-new-drug/
LOCATION:Chapel
CATEGORIES:Addiction Recovery,Family Support,General Session,Keynotes,Mental Wellness,Q&A
END:VEVENT
BEGIN:VEVENT
DTSTART;TZID=America/Boise:20220312T150000
DTEND;TZID=America/Boise:20220312T155000
DTSTAMP:20260423T181927
CREATED:20220308T152833Z
LAST-MODIFIED:20220310T035625Z
UID:903-1647097200-1647100200@hopeandhealinginchrist.org
SUMMARY:How Radical Honesty Creates Intimate Connection and Breaks Down Shame | Ryan Wynder\, MS\, LMFT\, EMDR-T
DESCRIPTION:How Radical Honesty Creates Intimate Connection and Breaks Down Shame | Ryan Wynder\, MS\, LMFT\, EMDR-T”
URL:https://hopeandhealinginchrist.org/event/how-radical-honesty-creates-intimate-connection-and-breaks-down-shame-ryan-wynder-ms-lmft-emdr-t/
LOCATION:1st Half of Gym
CATEGORIES:Addiction Recovery,Family Support
ATTACH;FMTTYPE=image/jpeg:https://hopeandhealinginchrist.org/wp-content/uploads/2018/02/pictures-of-jesus-1138494-high-res-print.jpg
END:VEVENT
BEGIN:VEVENT
DTSTART;TZID=America/Boise:20220312T150000
DTEND;TZID=America/Boise:20220312T155000
DTSTAMP:20260423T181927
CREATED:20220308T081042Z
LAST-MODIFIED:20220308T081044Z
UID:883-1647097200-1647100200@hopeandhealinginchrist.org
SUMMARY:The Role of Medication in Mental Health and Spiritual Healing | Jeff Johnson\, Pharm-D\, PA-C
DESCRIPTION:The Role of Medication in Mental Health and Spiritual Healing | Jeff Johnson\, Pharm-D\, PA-C
URL:https://hopeandhealinginchrist.org/event/the-role-of-medication-in-mental-health-and-spiritual-healing-jeff-johnson-pharm-d-pa-c/
LOCATION:2nd Half of Gym
CATEGORIES:Mental Wellness
ATTACH;FMTTYPE=image/jpeg:https://hopeandhealinginchrist.org/wp-content/uploads/2018/02/pictures-of-jesus-1138494-high-res-print.jpg
END:VEVENT
BEGIN:VEVENT
DTSTART;TZID=America/Boise:20220312T133000
DTEND;TZID=America/Boise:20220312T145500
DTSTAMP:20260423T181927
CREATED:20220308T153655Z
LAST-MODIFIED:20220310T035228Z
UID:912-1647091800-1647096900@hopeandhealinginchrist.org
SUMMARY:Unhooked: How to Help an Addicted Loved One Recover | Jason Coombs
DESCRIPTION:Unhooked: How to Help an Addicted Loved One Recover | Jason Coombs
URL:https://hopeandhealinginchrist.org/event/unhooked-how-to-help-an-addicted-loved-one-recover-jason-coombs/
LOCATION:Chapel
CATEGORIES:Family Support
ATTACH;FMTTYPE=image/jpeg:https://hopeandhealinginchrist.org/wp-content/uploads/2018/02/pictures-of-jesus-1138494-high-res-print.jpg
END:VEVENT
BEGIN:VEVENT
DTSTART;TZID=America/Boise:20220312T133000
DTEND;TZID=America/Boise:20220312T145500
DTSTAMP:20260423T181927
CREATED:20220308T152639Z
LAST-MODIFIED:20220308T152642Z
UID:899-1647091800-1647096900@hopeandhealinginchrist.org
SUMMARY:Couple Recovery Stories | Bryan and Susan & Hannah and Shane
DESCRIPTION:Couple Recovery Stories | Bryan and Susan & Hannah and Shane
URL:https://hopeandhealinginchrist.org/event/couple-recovery-stories-bryan-and-susan-hannah-and-shane/
LOCATION:1st Half of Gym
CATEGORIES:Addiction Recovery
ATTACH;FMTTYPE=image/jpeg:https://hopeandhealinginchrist.org/wp-content/uploads/2018/02/pictures-of-jesus-1138494-high-res-print.jpg
END:VEVENT
END:VCALENDAR