BEGIN:VCALENDAR
VERSION:2.0
PRODID:-// - ECPv6.15.20//NONSGML v1.0//EN
CALSCALE:GREGORIAN
METHOD:PUBLISH
X-ORIGINAL-URL:https://hopeandhealinginchrist.org
X-WR-CALDESC:Events for 
REFRESH-INTERVAL;VALUE=DURATION:PT1H
X-Robots-Tag:noindex
X-PUBLISHED-TTL:PT1H
BEGIN:VTIMEZONE
TZID:America/Boise
BEGIN:DAYLIGHT
TZOFFSETFROM:-0700
TZOFFSETTO:-0600
TZNAME:MDT
DTSTART:20200308T090000
END:DAYLIGHT
BEGIN:STANDARD
TZOFFSETFROM:-0600
TZOFFSETTO:-0700
TZNAME:MST
DTSTART:20201101T080000
END:STANDARD
BEGIN:DAYLIGHT
TZOFFSETFROM:-0700
TZOFFSETTO:-0600
TZNAME:MDT
DTSTART:20210314T090000
END:DAYLIGHT
BEGIN:STANDARD
TZOFFSETFROM:-0600
TZOFFSETTO:-0700
TZNAME:MST
DTSTART:20211107T080000
END:STANDARD
BEGIN:DAYLIGHT
TZOFFSETFROM:-0700
TZOFFSETTO:-0600
TZNAME:MDT
DTSTART:20220313T090000
END:DAYLIGHT
BEGIN:STANDARD
TZOFFSETFROM:-0600
TZOFFSETTO:-0700
TZNAME:MST
DTSTART:20221106T080000
END:STANDARD
BEGIN:DAYLIGHT
TZOFFSETFROM:-0700
TZOFFSETTO:-0600
TZNAME:MDT
DTSTART:20230312T090000
END:DAYLIGHT
BEGIN:STANDARD
TZOFFSETFROM:-0600
TZOFFSETTO:-0700
TZNAME:MST
DTSTART:20231105T080000
END:STANDARD
END:VTIMEZONE
BEGIN:VEVENT
DTSTART;TZID=America/Boise:20220312T160000
DTEND;TZID=America/Boise:20220312T165000
DTSTAMP:20260423T182008
CREATED:20220308T081237Z
LAST-MODIFIED:20220308T081325Z
UID:885-1647100800-1647103800@hopeandhealinginchrist.org
SUMMARY:Love is Stronger than Shame | Clay Olsen\, CEO of Fight the New Drug
DESCRIPTION:Love is Stronger than Shame | Clay Olsen\, CEO of Fight the New Drug
URL:https://hopeandhealinginchrist.org/event/love-is-stronger-than-shame-clay-olsen-ceo-of-fight-the-new-drug/
LOCATION:Chapel
CATEGORIES:Addiction Recovery,Family Support,General Session,Keynotes,Mental Wellness,Q&A
END:VEVENT
BEGIN:VEVENT
DTSTART;TZID=America/Boise:20220312T150000
DTEND;TZID=America/Boise:20220312T155000
DTSTAMP:20260423T182008
CREATED:20220308T152833Z
LAST-MODIFIED:20220310T035625Z
UID:903-1647097200-1647100200@hopeandhealinginchrist.org
SUMMARY:How Radical Honesty Creates Intimate Connection and Breaks Down Shame | Ryan Wynder\, MS\, LMFT\, EMDR-T
DESCRIPTION:How Radical Honesty Creates Intimate Connection and Breaks Down Shame | Ryan Wynder\, MS\, LMFT\, EMDR-T”
URL:https://hopeandhealinginchrist.org/event/how-radical-honesty-creates-intimate-connection-and-breaks-down-shame-ryan-wynder-ms-lmft-emdr-t/
LOCATION:1st Half of Gym
CATEGORIES:Addiction Recovery,Family Support
ATTACH;FMTTYPE=image/jpeg:https://hopeandhealinginchrist.org/wp-content/uploads/2018/02/pictures-of-jesus-1138494-high-res-print.jpg
END:VEVENT
BEGIN:VEVENT
DTSTART;TZID=America/Boise:20220312T150000
DTEND;TZID=America/Boise:20220312T155000
DTSTAMP:20260423T182008
CREATED:20220308T081042Z
LAST-MODIFIED:20220308T081044Z
UID:883-1647097200-1647100200@hopeandhealinginchrist.org
SUMMARY:The Role of Medication in Mental Health and Spiritual Healing | Jeff Johnson\, Pharm-D\, PA-C
DESCRIPTION:The Role of Medication in Mental Health and Spiritual Healing | Jeff Johnson\, Pharm-D\, PA-C
URL:https://hopeandhealinginchrist.org/event/the-role-of-medication-in-mental-health-and-spiritual-healing-jeff-johnson-pharm-d-pa-c/
LOCATION:2nd Half of Gym
CATEGORIES:Mental Wellness
ATTACH;FMTTYPE=image/jpeg:https://hopeandhealinginchrist.org/wp-content/uploads/2018/02/pictures-of-jesus-1138494-high-res-print.jpg
END:VEVENT
BEGIN:VEVENT
DTSTART;TZID=America/Boise:20220312T133000
DTEND;TZID=America/Boise:20220312T145500
DTSTAMP:20260423T182008
CREATED:20220308T153655Z
LAST-MODIFIED:20220310T035228Z
UID:912-1647091800-1647096900@hopeandhealinginchrist.org
SUMMARY:Unhooked: How to Help an Addicted Loved One Recover | Jason Coombs
DESCRIPTION:Unhooked: How to Help an Addicted Loved One Recover | Jason Coombs
URL:https://hopeandhealinginchrist.org/event/unhooked-how-to-help-an-addicted-loved-one-recover-jason-coombs/
LOCATION:Chapel
CATEGORIES:Family Support
ATTACH;FMTTYPE=image/jpeg:https://hopeandhealinginchrist.org/wp-content/uploads/2018/02/pictures-of-jesus-1138494-high-res-print.jpg
END:VEVENT
BEGIN:VEVENT
DTSTART;TZID=America/Boise:20220312T133000
DTEND;TZID=America/Boise:20220312T145500
DTSTAMP:20260423T182008
CREATED:20220308T152639Z
LAST-MODIFIED:20220308T152642Z
UID:899-1647091800-1647096900@hopeandhealinginchrist.org
SUMMARY:Couple Recovery Stories | Bryan and Susan & Hannah and Shane
DESCRIPTION:Couple Recovery Stories | Bryan and Susan & Hannah and Shane
URL:https://hopeandhealinginchrist.org/event/couple-recovery-stories-bryan-and-susan-hannah-and-shane/
LOCATION:1st Half of Gym
CATEGORIES:Addiction Recovery
ATTACH;FMTTYPE=image/jpeg:https://hopeandhealinginchrist.org/wp-content/uploads/2018/02/pictures-of-jesus-1138494-high-res-print.jpg
END:VEVENT
BEGIN:VEVENT
DTSTART;TZID=America/Boise:20220312T133000
DTEND;TZID=America/Boise:20220312T145500
DTSTAMP:20260423T182008
CREATED:20220308T080754Z
LAST-MODIFIED:20220308T080830Z
UID:880-1647091800-1647096900@hopeandhealinginchrist.org
SUMMARY:Suicide Prevention: Helping Others and Ourselves Through Connection | September Frogley (from Connection is the Cure)
DESCRIPTION:Suicide Prevention: Helping Others and Ourselves Through Connection | September Frogley (from Connection is the Cure)
URL:https://hopeandhealinginchrist.org/event/suicide-prevention-helping-others-and-ourselves-through-connection-september-frogley-from-connection-is-the-cure/
LOCATION:2nd Half of Gym
CATEGORIES:Mental Wellness
ATTACH;FMTTYPE=image/jpeg:https://hopeandhealinginchrist.org/wp-content/uploads/2018/02/pictures-of-jesus-1138494-high-res-print.jpg
END:VEVENT
BEGIN:VEVENT
DTSTART;TZID=America/Boise:20220312T123000
DTEND;TZID=America/Boise:20220312T133000
DTSTAMP:20260423T182008
CREATED:20210310T075056Z
LAST-MODIFIED:20230223T005234Z
UID:385-1647088200-1647091800@hopeandhealinginchrist.org
SUMMARY:Lunch Break
DESCRIPTION:
URL:https://hopeandhealinginchrist.org/event/lunch-break/
CATEGORIES:Addiction Recovery,Family Support,General Session,Keynotes,Mental Wellness,Personal Success Stories,Q&A
ATTACH;FMTTYPE=image/jpeg:https://hopeandhealinginchrist.org/wp-content/uploads/2022/03/glass-pattern-bg.jpg
END:VEVENT
BEGIN:VEVENT
DTSTART;TZID=America/Boise:20220312T113000
DTEND;TZID=America/Boise:20220312T122000
DTSTAMP:20260423T182008
CREATED:20220308T153256Z
LAST-MODIFIED:20220308T153257Z
UID:910-1647084600-1647087600@hopeandhealinginchrist.org
SUMMARY:From Heartache to Healing: Finding Power in Christ to Deal with a Loved One's Sexual Addiction | Colleen Harrison
DESCRIPTION:From Heartache to Healing: Finding Power in Christ to Deal with a Loved One’s Sexual Addiction | Colleen Harrison
URL:https://hopeandhealinginchrist.org/event/from-heartache-to-healing-finding-power-in-christ-to-deal-with-a-loved-ones-sexual-addiction-colleen-harrison/
LOCATION:Chapel
CATEGORIES:Family Support
ATTACH;FMTTYPE=image/jpeg:https://hopeandhealinginchrist.org/wp-content/uploads/2018/02/pictures-of-jesus-1138494-high-res-print.jpg
END:VEVENT
BEGIN:VEVENT
DTSTART;TZID=America/Boise:20220312T113000
DTEND;TZID=America/Boise:20220312T122000
DTSTAMP:20260423T182008
CREATED:20220308T081800Z
LAST-MODIFIED:20220308T082019Z
UID:890-1647084600-1647087600@hopeandhealinginchrist.org
SUMMARY:Men's Success Stories (Pornography & Lust Specific) | Steve\, Chaz\, & Brit
DESCRIPTION:Men’s Success Stories (Pornography & Lust Specific) | Steve\, Chaz\, & Brit
URL:https://hopeandhealinginchrist.org/event/mens-success-stories-pornography-lust-specific-steve-chaz-brit/
LOCATION:1st Half of Gym
CATEGORIES:Addiction Recovery,Personal Success Stories
ATTACH;FMTTYPE=image/jpeg:https://hopeandhealinginchrist.org/wp-content/uploads/2018/02/pictures-of-jesus-1138494-high-res-print.jpg
END:VEVENT
BEGIN:VEVENT
DTSTART;TZID=America/Boise:20220312T113000
DTEND;TZID=America/Boise:20220312T122000
DTSTAMP:20260423T182008
CREATED:20220308T080531Z
LAST-MODIFIED:20220308T080532Z
UID:878-1647084600-1647087600@hopeandhealinginchrist.org
SUMMARY:It’s Time for a Paradigm Shift in Mental Health | Clay Olsen\, CEO of Fight the New Drug
DESCRIPTION:It’s Time for a Paradigm Shift in Mental Health | Clay Olsen\, CEO of Fight the New Drug
URL:https://hopeandhealinginchrist.org/event/its-time-for-a-paradigm-shift-in-mental-health-clay-olsen-ceo-of-fight-the-new-drug/
LOCATION:2nd Half of Gym
CATEGORIES:Mental Wellness
ATTACH;FMTTYPE=image/jpeg:https://hopeandhealinginchrist.org/wp-content/uploads/2018/02/pictures-of-jesus-1138494-high-res-print.jpg
END:VEVENT
BEGIN:VEVENT
DTSTART;TZID=America/Boise:20220312T103000
DTEND;TZID=America/Boise:20220312T112000
DTSTAMP:20260423T182008
CREATED:20220308T152948Z
LAST-MODIFIED:20220310T035151Z
UID:906-1647081000-1647084000@hopeandhealinginchrist.org
SUMMARY:Women's Stories of Hope and Healing (Spouse & Family Support) | Hilary\, Ali\, & Maddie
DESCRIPTION:Women’s Stories of Hope and Healing (Spouse & Family Support) | Hilary\, Ali\, & Maddie
URL:https://hopeandhealinginchrist.org/event/womens-stories-of-hope-and-healing-spouse-family-support-hilary-ali-maddie/
LOCATION:Chapel
CATEGORIES:Family Support
ATTACH;FMTTYPE=image/jpeg:https://hopeandhealinginchrist.org/wp-content/uploads/2018/02/pictures-of-jesus-1138494-high-res-print.jpg
END:VEVENT
BEGIN:VEVENT
DTSTART;TZID=America/Boise:20220312T103000
DTEND;TZID=America/Boise:20220312T112000
DTSTAMP:20260423T182008
CREATED:20220308T081556Z
LAST-MODIFIED:20220308T081843Z
UID:887-1647081000-1647084000@hopeandhealinginchrist.org
SUMMARY:Understanding Grace and Identity: Personal Recovery Stories (Pornography & Lust Specific) | Cassandra & Kim
DESCRIPTION:Understanding Grace and Identity: Personal Recovery Stories (Pornography & Lust Specific) | Cassandra & Kim
URL:https://hopeandhealinginchrist.org/event/understanding-grace-and-identity-personal-recovery-stories-pornography-lust-specific-cassandra-kim/
LOCATION:1st Half of Gym
CATEGORIES:Addiction Recovery,Personal Success Stories
END:VEVENT
BEGIN:VEVENT
DTSTART;TZID=America/Boise:20220312T103000
DTEND;TZID=America/Boise:20220312T112000
DTSTAMP:20260423T182008
CREATED:20220308T080014Z
LAST-MODIFIED:20220308T080015Z
UID:871-1647081000-1647084000@hopeandhealinginchrist.org
SUMMARY:Understanding Perfectionism and Scrupulosity (Religious/Moral OCD) | Rachel Jessen\, LCSW
DESCRIPTION:Understanding Perfectionism and Scrupulosity (Religious/Moral OCD) | Rachel Jessen\, LCSW
URL:https://hopeandhealinginchrist.org/event/understanding-perfectionism-and-scrupulosity-religious-moral-ocd-rachel-jessen-lcsw/
LOCATION:2nd Half of Gym
CATEGORIES:Mental Wellness
ATTACH;FMTTYPE=image/jpeg:https://hopeandhealinginchrist.org/wp-content/uploads/2018/02/pictures-of-jesus-1138494-high-res-print.jpg
END:VEVENT
BEGIN:VEVENT
DTSTART;TZID=America/Boise:20220312T090000
DTEND;TZID=America/Boise:20220312T101500
DTSTAMP:20260423T182008
CREATED:20220308T073155Z
LAST-MODIFIED:20220308T075842Z
UID:847-1647075600-1647080100@hopeandhealinginchrist.org
SUMMARY:General Session in the Chapel | Keynote: Colleen Harrison | Music Performance: Candace\, Julia\, and Olivia Klassen
DESCRIPTION:Keynote: Colleen Harrison\, author of He Did Deliver Me From Bondage\, “I Cannot Say the Smallest Part” (Alma 26:16)\nSpecial Music Performance: Candace\, Julia\, and Olivia Klassen\, “Come As You Are”
URL:https://hopeandhealinginchrist.org/event/general-session-in-the-chapel/
LOCATION:Chapel
CATEGORIES:General Session
ATTACH;FMTTYPE=image/jpeg:https://hopeandhealinginchrist.org/wp-content/uploads/2018/02/pictures-of-jesus-1138494-high-res-print.jpg
END:VEVENT
BEGIN:VEVENT
DTSTART;TZID=America/Boise:20210313T163000
DTEND;TZID=America/Boise:20210313T170000
DTSTAMP:20260423T182008
CREATED:20210310T072504Z
LAST-MODIFIED:20210313T233334Z
UID:355-1615653000-1615654800@hopeandhealinginchrist.org
SUMMARY:Combined Q&A Session in the Chapel
DESCRIPTION:Attend the via Zoom here: https://zoom.us/webinar/register/WN_JJOVGY_0RCy8vBitScdXoQ
URL:https://hopeandhealinginchrist.org/event/combined-q-a-session-in-the-chapel/
LOCATION:Chapel
CATEGORIES:General Session,Q&A
ATTACH;FMTTYPE=image/jpeg:https://hopeandhealinginchrist.org/wp-content/uploads/2018/02/pictures-of-jesus-1138494-high-res-print.jpg
END:VEVENT
BEGIN:VEVENT
DTSTART;TZID=America/Boise:20210313T153000
DTEND;TZID=America/Boise:20210313T163000
DTSTAMP:20260423T182008
CREATED:20210310T083241Z
LAST-MODIFIED:20210312T010455Z
UID:426-1615649400-1615653000@hopeandhealinginchrist.org
SUMMARY:Personal Success Stories ｜ Spouse Support ｜ Speakers: Women's Stories of Hope and Healing
DESCRIPTION:
URL:https://hopeandhealinginchrist.org/event/personal-success-stories-spouse-support/
LOCATION:Chapel
CATEGORIES:Personal Success Stories
ATTACH;FMTTYPE=image/jpeg:https://hopeandhealinginchrist.org/wp-content/uploads/2018/02/pictures-of-jesus-1138494-high-res-print.jpg
END:VEVENT
BEGIN:VEVENT
DTSTART;TZID=America/Boise:20210313T153000
DTEND;TZID=America/Boise:20210313T163000
DTSTAMP:20260423T182008
CREATED:20210310T081806Z
LAST-MODIFIED:20210312T010439Z
UID:413-1615649400-1615653000@hopeandhealinginchrist.org
SUMMARY:Addiction Recovery/Support ｜ The Multiple Faces of Addiction ｜ Addiction Recovery Story ｜ Speakers: Evan
DESCRIPTION:Attend the via Zoom here: https://zoom.us/j/96252378009
URL:https://hopeandhealinginchrist.org/event/addiction-recovery-support-the-multiple-faces-of-addiction/
LOCATION:Relief Society Room
CATEGORIES:Addiction Recovery
END:VEVENT
BEGIN:VEVENT
DTSTART;TZID=America/Boise:20210313T153000
DTEND;TZID=America/Boise:20210313T163000
DTSTAMP:20260423T182008
CREATED:20210310T074925Z
LAST-MODIFIED:20210310T084314Z
UID:382-1615649400-1615653000@hopeandhealinginchrist.org
SUMMARY:Mental Wellness ｜ How Anxiety and Depression Has Helped Us Understand the Atonement of Jesus Christ ｜ Speakers: Emily & Mike Sessions
DESCRIPTION:Attend the via Zoom here: https://zoom.us/j/95082184654
URL:https://hopeandhealinginchrist.org/event/mental-wellness-how-anxiety-and-depression-has-helped-us-understand-the-atonement-of-jesus-christ/
LOCATION:1st Half of Gym
CATEGORIES:Mental Wellness
ATTACH;FMTTYPE=image/jpeg:https://hopeandhealinginchrist.org/wp-content/uploads/2018/02/pictures-of-jesus-1138494-high-res-print.jpg
END:VEVENT
BEGIN:VEVENT
DTSTART;TZID=America/Boise:20210313T143000
DTEND;TZID=America/Boise:20210313T163000
DTSTAMP:20260423T182008
CREATED:20210310T080557Z
LAST-MODIFIED:20210310T085142Z
UID:401-1615645800-1615653000@hopeandhealinginchrist.org
SUMMARY:Keynotes ｜ Unhooked: How to Help an Addicted Loved One Recover ｜ (Leaders\, Influencers\, Parents\, & Spouses) ｜ Speaker: Jason Coombs
DESCRIPTION:Attend the via Zoom here: https://zoom.us/j/93275701270
URL:https://hopeandhealinginchrist.org/event/keynotes-unhooked-how-to-help-an-addicted-loved-one-recover/
LOCATION:2nd Half of Gym
CATEGORIES:Keynotes
ATTACH;FMTTYPE=image/jpeg:https://hopeandhealinginchrist.org/wp-content/uploads/2018/02/pictures-of-jesus-1138494-high-res-print.jpg
END:VEVENT
BEGIN:VEVENT
DTSTART;TZID=America/Boise:20210313T143000
DTEND;TZID=America/Boise:20210313T153000
DTSTAMP:20260423T182008
CREATED:20210310T082113Z
LAST-MODIFIED:20210310T084306Z
UID:415-1615645800-1615649400@hopeandhealinginchrist.org
SUMMARY:Personal Success Stories ｜ Pornography & Lust Specific ｜ Speakers: Men's Success Stories
DESCRIPTION:
URL:https://hopeandhealinginchrist.org/event/personal-success-stories-mens-success-stories-group2/
LOCATION:Chapel
CATEGORIES:Personal Success Stories
ATTACH;FMTTYPE=image/jpeg:https://hopeandhealinginchrist.org/wp-content/uploads/2018/02/pictures-of-jesus-1138494-high-res-print.jpg
END:VEVENT
BEGIN:VEVENT
DTSTART;TZID=America/Boise:20210313T143000
DTEND;TZID=America/Boise:20210313T153000
DTSTAMP:20260423T182008
CREATED:20210310T081549Z
LAST-MODIFIED:20210311T034705Z
UID:410-1615645800-1615649400@hopeandhealinginchrist.org
SUMMARY:Addiction Recovery/Support ｜ Recognizing Christ's Grace ｜ Couple's Recovery Story ｜ Speakers: Seth & Nicole
DESCRIPTION:Attend the via Zoom here: https://zoom.us/j/96252378009
URL:https://hopeandhealinginchrist.org/event/addiction-recovery-support-recognizing-christs-grace/
LOCATION:Relief Society Room
CATEGORIES:Addiction Recovery
ATTACH;FMTTYPE=image/jpeg:https://hopeandhealinginchrist.org/wp-content/uploads/2018/02/pictures-of-jesus-1138494-high-res-print.jpg
END:VEVENT
BEGIN:VEVENT
DTSTART;TZID=America/Boise:20210313T143000
DTEND;TZID=America/Boise:20210313T153000
DTSTAMP:20260423T182008
CREATED:20210310T074653Z
LAST-MODIFIED:20210310T084255Z
UID:378-1615645800-1615649400@hopeandhealinginchrist.org
SUMMARY:Mental Wellness ｜ A Journey to Mental Wellness ｜ Personal Accounts ｜ Speakers: Lisa Waters & Margaret Wilson
DESCRIPTION:Attend the via Zoom here: https://zoom.us/j/95082184654
URL:https://hopeandhealinginchrist.org/event/mental-wellness-a-journey-to-mental-wellness/
LOCATION:1st Half of Gym
CATEGORIES:Mental Wellness
ATTACH;FMTTYPE=image/jpeg:https://hopeandhealinginchrist.org/wp-content/uploads/2018/02/pictures-of-jesus-1138494-high-res-print.jpg
END:VEVENT
BEGIN:VEVENT
DTSTART;TZID=America/Boise:20210313T133000
DTEND;TZID=America/Boise:20210313T143000
DTSTAMP:20260423T182008
CREATED:20210310T082950Z
LAST-MODIFIED:20210310T084251Z
UID:422-1615642200-1615645800@hopeandhealinginchrist.org
SUMMARY:Personal Success Stories ｜ Fill with Sweet My  Bitter Cup ｜ Couple's Recovery Story ｜ (Pornography\, Lust & Betrayal Trauma) ｜ Speakers: Ben & Mindy
DESCRIPTION:
URL:https://hopeandhealinginchrist.org/event/personal-success-stories-%ef%bd%9c-fill-with-sweet-my-bitter-cup-%ef%bd%9c-couples-recovery-story-%ef%bd%9c-pornography-lust-betrayal-trauma-%ef%bd%9c-speakers-ben-mindy/
LOCATION:Chapel
CATEGORIES:Personal Success Stories
ATTACH;FMTTYPE=image/jpeg:https://hopeandhealinginchrist.org/wp-content/uploads/2018/02/pictures-of-jesus-1138494-high-res-print.jpg
END:VEVENT
BEGIN:VEVENT
DTSTART;TZID=America/Boise:20210313T133000
DTEND;TZID=America/Boise:20210313T143000
DTSTAMP:20260423T182008
CREATED:20210310T081313Z
LAST-MODIFIED:20210311T034703Z
UID:407-1615642200-1615645800@hopeandhealinginchrist.org
SUMMARY:Addiction Recovery/Support ｜ Create a Solid Recovery Foundation from Substance Use Disorder ｜ Speaker: Archie Swensen
DESCRIPTION:Attend the via Zoom here: https://zoom.us/j/96252378009
URL:https://hopeandhealinginchrist.org/event/addiction-recovery-support-create-a-solid-recovery-foundation-from-substance-use-disorder/
LOCATION:Relief Society Room
CATEGORIES:Addiction Recovery
ATTACH;FMTTYPE=image/jpeg:https://hopeandhealinginchrist.org/wp-content/uploads/2018/02/pictures-of-jesus-1138494-high-res-print.jpg
END:VEVENT
BEGIN:VEVENT
DTSTART;TZID=America/Boise:20210313T133000
DTEND;TZID=America/Boise:20210313T143000
DTSTAMP:20260423T182008
CREATED:20210310T080327Z
LAST-MODIFIED:20210310T085309Z
UID:398-1615642200-1615645800@hopeandhealinginchrist.org
SUMMARY:Keynotes ｜ How Mindfulness Prepares Us to Receive the Healing Power of Christ ｜ (Mental Wellness\, Addiction & Support) ｜ Speaker: Ty Mansfield\, PhD\, LMFT
DESCRIPTION:Attend the via Zoom here: https://zoom.us/j/93275701270
URL:https://hopeandhealinginchrist.org/event/keynotes-how-mindfulness-prepares-us-to-receive-the-healing-power-of-christ/
LOCATION:2nd Half of Gym
CATEGORIES:Keynotes
ATTACH;FMTTYPE=image/jpeg:https://hopeandhealinginchrist.org/wp-content/uploads/2018/02/pictures-of-jesus-1138494-high-res-print.jpg
END:VEVENT
BEGIN:VEVENT
DTSTART;TZID=America/Boise:20210313T133000
DTEND;TZID=America/Boise:20210313T143000
DTSTAMP:20260423T182008
CREATED:20210310T074322Z
LAST-MODIFIED:20210310T084235Z
UID:374-1615642200-1615645800@hopeandhealinginchrist.org
SUMMARY:Mental Wellness ｜ Suicide Awareness\, Prevention & Postvention ｜ Speaker: Kristen Coltrin\, LMSW
DESCRIPTION:Attend the via Zoom here: https://zoom.us/j/95082184654
URL:https://hopeandhealinginchrist.org/event/mental-wellness-%ef%bd%9c-suicide-awareness-prevention-postvention-%ef%bd%9c-speaker-kristen-coltrin-lmsw/
LOCATION:1st Half of Gym
CATEGORIES:Mental Wellness
ATTACH;FMTTYPE=image/jpeg:https://hopeandhealinginchrist.org/wp-content/uploads/2018/02/pictures-of-jesus-1138494-high-res-print.jpg
END:VEVENT
BEGIN:VEVENT
DTSTART;TZID=America/Boise:20210313T113000
DTEND;TZID=America/Boise:20210313T123000
DTSTAMP:20260423T182008
CREATED:20210310T082614Z
LAST-MODIFIED:20210310T170511Z
UID:418-1615635000-1615638600@hopeandhealinginchrist.org
SUMMARY:Personal Success Stories ｜ Stories of Hope from Parents ｜ Speakers: Anonymous – Pornography Specific ｜ Speaker: Nanette – Drug Use Specific
DESCRIPTION:
URL:https://hopeandhealinginchrist.org/event/personal-success-stories-%ef%bd%9c-stories-of-hope-from-parents-%ef%bd%9c-speakers-katee-cody-pornography-specific-%ef%bd%9c-speaker-nanette-drug-use-specific/
LOCATION:Chapel
CATEGORIES:Personal Success Stories
ATTACH;FMTTYPE=image/jpeg:https://hopeandhealinginchrist.org/wp-content/uploads/2018/02/pictures-of-jesus-1138494-high-res-print.jpg
END:VEVENT
BEGIN:VEVENT
DTSTART;TZID=America/Boise:20210313T113000
DTEND;TZID=America/Boise:20210313T123000
DTSTAMP:20260423T182008
CREATED:20210310T081036Z
LAST-MODIFIED:20210311T034701Z
UID:403-1615635000-1615638600@hopeandhealinginchrist.org
SUMMARY:Addiction Recovery/Support ｜ Supporting Those Healing Through Trauma ｜ Speaker: Ty Mansfield\, PhD\, LMFT
DESCRIPTION:Attend the via Zoom here: https://zoom.us/j/96252378009
URL:https://hopeandhealinginchrist.org/event/addiction-recovery-support-supporting-those-healing-through-trauma/
LOCATION:Relief Society Room
CATEGORIES:Addiction Recovery
ATTACH;FMTTYPE=image/jpeg:https://hopeandhealinginchrist.org/wp-content/uploads/2018/02/pictures-of-jesus-1138494-high-res-print.jpg
END:VEVENT
BEGIN:VEVENT
DTSTART;TZID=America/Boise:20210313T113000
DTEND;TZID=America/Boise:20210313T123000
DTSTAMP:20260423T182008
CREATED:20210310T080034Z
LAST-MODIFIED:20210310T085322Z
UID:393-1615635000-1615638600@hopeandhealinginchrist.org
SUMMARY:Keynotes ｜ Fight the New Drug ｜ Speaker: Founder - Clay Olsen
DESCRIPTION:Attend the via Zoom here: https://zoom.us/j/93275701270
URL:https://hopeandhealinginchrist.org/event/keynotes-fight-the-new-drug/
LOCATION:2nd Half of Gym
CATEGORIES:Keynotes
ATTACH;FMTTYPE=image/jpeg:https://hopeandhealinginchrist.org/wp-content/uploads/2018/02/pictures-of-jesus-1138494-high-res-print.jpg
END:VEVENT
BEGIN:VEVENT
DTSTART;TZID=America/Boise:20210313T113000
DTEND;TZID=America/Boise:20210313T123000
DTSTAMP:20260423T182008
CREATED:20210310T073757Z
LAST-MODIFIED:20210310T084214Z
UID:370-1615635000-1615638600@hopeandhealinginchrist.org
SUMMARY:Mental Wellness ｜ Incorporating Medications in Conjunction with the Atonement ｜ Speaker: Jeff Johnson\, Pharm-D\, PA-C
DESCRIPTION:Attend the via Zoom here: https://zoom.us/j/95082184654
URL:https://hopeandhealinginchrist.org/event/mental-wellness-incorporating-medications-in-conjunction-with-the-atonement/
LOCATION:1st Half of Gym
CATEGORIES:Mental Wellness
ATTACH;FMTTYPE=image/jpeg:https://hopeandhealinginchrist.org/wp-content/uploads/2018/02/pictures-of-jesus-1138494-high-res-print.jpg
END:VEVENT
END:VCALENDAR